BEGIN:VCALENDAR
VERSION:2.0
PRODID:-//Everyday I Grow - ECPv6.15.20//NONSGML v1.0//EN
CALSCALE:GREGORIAN
METHOD:PUBLISH
X-ORIGINAL-URL:https://everydayigrow.com
X-WR-CALDESC:Events for Everyday I Grow
REFRESH-INTERVAL;VALUE=DURATION:PT1H
X-Robots-Tag:noindex
X-PUBLISHED-TTL:PT1H
BEGIN:VTIMEZONE
TZID:UTC
BEGIN:STANDARD
TZOFFSETFROM:+0000
TZOFFSETTO:+0000
TZNAME:UTC
DTSTART:20230101T000000
END:STANDARD
END:VTIMEZONE
BEGIN:VEVENT
DTSTART;TZID=UTC:20241024T080000
DTEND;TZID=UTC:20241024T170000
DTSTAMP:20260423T130337
CREATED:20240102T121705Z
LAST-MODIFIED:20240125T052410Z
UID:184-1729756800-1729789200@everydayigrow.com
SUMMARY:Brazil Summit\, Sao Paulo\, Brazil
DESCRIPTION:
URL:https://everydayigrow.com/event/brazil-summit-sao-paulo-brazil
END:VEVENT
BEGIN:VEVENT
DTSTART;TZID=UTC:20240901T080000
DTEND;TZID=UTC:20240901T170000
DTSTAMP:20260423T130337
CREATED:20240102T121628Z
LAST-MODIFIED:20240125T052413Z
UID:182-1725177600-1725210000@everydayigrow.com
SUMMARY:International Investment Digital Assets Summit\, Miami\, Florida
DESCRIPTION:
URL:https://everydayigrow.com/event/international-investment-digital-assets-summit-miami-florida
END:VEVENT
BEGIN:VEVENT
DTSTART;TZID=UTC:20240626T080000
DTEND;TZID=UTC:20240626T170000
DTSTAMP:20260423T130337
CREATED:20240102T121537Z
LAST-MODIFIED:20240125T052416Z
UID:180-1719388800-1719421200@everydayigrow.com
SUMMARY:New York Landfall at Hedgeweek\, New York\, NY
DESCRIPTION:
URL:https://everydayigrow.com/event/new-york-landfall-at-hedgeweek-new-york-ny
END:VEVENT
BEGIN:VEVENT
DTSTART;TZID=UTC:20240415T080000
DTEND;TZID=UTC:20240415T170000
DTSTAMP:20260423T130337
CREATED:20240102T121501Z
LAST-MODIFIED:20240125T052419Z
UID:178-1713168000-1713200400@everydayigrow.com
SUMMARY:TechGC Fintech Executive Offsite\, Miami Beach\, Florida
DESCRIPTION:
URL:https://everydayigrow.com/event/techgc-fintech-executive-offsite-miami-beach-florida
END:VEVENT
BEGIN:VEVENT
DTSTART;TZID=UTC:20240402T080000
DTEND;TZID=UTC:20240402T170000
DTSTAMP:20260423T130337
CREATED:20240102T121419Z
LAST-MODIFIED:20240125T052422Z
UID:176-1712044800-1712077200@everydayigrow.com
SUMMARY:London Landfall at Hedgeweek\, London\, UK
DESCRIPTION:
URL:https://everydayigrow.com/event/london-landfall-at-hedgeweek-london-uk
END:VEVENT
BEGIN:VEVENT
DTSTART;TZID=UTC:20240326T080000
DTEND;TZID=UTC:20240326T170000
DTSTAMP:20260423T130337
CREATED:20240102T120949Z
LAST-MODIFIED:20240125T052425Z
UID:170-1711440000-1711472400@everydayigrow.com
SUMMARY:Women of Power Summit\, Las Vegas\, NV
DESCRIPTION:
URL:https://everydayigrow.com/event/women-of-power-summit-las-vegas-nv
END:VEVENT
BEGIN:VEVENT
DTSTART;TZID=UTC:20240216T080000
DTEND;TZID=UTC:20240216T170000
DTSTAMP:20260423T130337
CREATED:20240102T120827Z
LAST-MODIFIED:20240125T052428Z
UID:168-1708070400-1708102800@everydayigrow.com
SUMMARY:WealthBriefing Panel Discussion\, Nassau\, The Bahamas
DESCRIPTION:
URL:https://everydayigrow.com/event/wealthbriefing-panel-discussion-nassau-the-bahamas
END:VEVENT
END:VCALENDAR